BEGIN:VCALENDAR
VERSION:2.0
PRODID:-//www.ballstonva.org - ECPv6.15.20//NONSGML v1.0//EN
CALSCALE:GREGORIAN
METHOD:PUBLISH
X-WR-CALNAME:www.ballstonva.org
X-ORIGINAL-URL:https://www.ballstonva.org
X-WR-CALDESC:Events for www.ballstonva.org
REFRESH-INTERVAL;VALUE=DURATION:PT1H
X-Robots-Tag:noindex
X-PUBLISHED-TTL:PT1H
BEGIN:VTIMEZONE
TZID:America/New_York
BEGIN:DAYLIGHT
TZOFFSETFROM:-0500
TZOFFSETTO:-0400
TZNAME:EDT
DTSTART:20250309T070000
END:DAYLIGHT
BEGIN:STANDARD
TZOFFSETFROM:-0400
TZOFFSETTO:-0500
TZNAME:EST
DTSTART:20251102T060000
END:STANDARD
BEGIN:DAYLIGHT
TZOFFSETFROM:-0500
TZOFFSETTO:-0400
TZNAME:EDT
DTSTART:20260308T070000
END:DAYLIGHT
BEGIN:STANDARD
TZOFFSETFROM:-0400
TZOFFSETTO:-0500
TZNAME:EST
DTSTART:20261101T060000
END:STANDARD
BEGIN:DAYLIGHT
TZOFFSETFROM:-0500
TZOFFSETTO:-0400
TZNAME:EDT
DTSTART:20270314T070000
END:DAYLIGHT
BEGIN:STANDARD
TZOFFSETFROM:-0400
TZOFFSETTO:-0500
TZNAME:EST
DTSTART:20271107T060000
END:STANDARD
BEGIN:DAYLIGHT
TZOFFSETFROM:-0500
TZOFFSETTO:-0400
TZNAME:EDT
DTSTART:20280312T070000
END:DAYLIGHT
BEGIN:STANDARD
TZOFFSETFROM:-0400
TZOFFSETTO:-0500
TZNAME:EST
DTSTART:20281105T060000
END:STANDARD
END:VTIMEZONE
BEGIN:VEVENT
DTSTART;TZID=America/New_York:20261224T150000
DTEND;TZID=America/New_York:20261224T180000
DTSTAMP:20260420T064213
CREATED:20260202T184605Z
LAST-MODIFIED:20260327T135207Z
UID:10001445-1798124400-1798135200@www.ballstonva.org
SUMMARY:Ballston Farmer's Market
DESCRIPTION:Every Thursday | Welburn Square \nJoin us weekly in Welburn Square for a curated selection vendors. \n\nWinter Hours (Dec – Mar): 3:00 PM – 6:00 PM\nSummer Hours (Apr – Nov): 3:00 PM – 7:00 PM\nLocation: Welburn Square (Across from Ballston Metro)\n\nPlease note: The market operates weekly\, rain or shine. Cancellations only occur in the event of extreme weather or unsafe site conditions. Please follow us on social media to have the latest updates. \n 
URL:https://www.ballstonva.org/event/ballston-farmers-market-2/2026-12-24/
LOCATION:Welburn Square\, 909 N Taylor St\, Arlington\, VA\, 22203\, United States
END:VEVENT
BEGIN:VEVENT
DTSTART;TZID=America/New_York:20261231T150000
DTEND;TZID=America/New_York:20261231T180000
DTSTAMP:20260420T064213
CREATED:20260202T184605Z
LAST-MODIFIED:20260327T135207Z
UID:10001446-1798729200-1798740000@www.ballstonva.org
SUMMARY:Ballston Farmer's Market
DESCRIPTION:Every Thursday | Welburn Square \nJoin us weekly in Welburn Square for a curated selection vendors. \n\nWinter Hours (Dec – Mar): 3:00 PM – 6:00 PM\nSummer Hours (Apr – Nov): 3:00 PM – 7:00 PM\nLocation: Welburn Square (Across from Ballston Metro)\n\nPlease note: The market operates weekly\, rain or shine. Cancellations only occur in the event of extreme weather or unsafe site conditions. Please follow us on social media to have the latest updates. \n 
URL:https://www.ballstonva.org/event/ballston-farmers-market-2/2026-12-31/
LOCATION:Welburn Square\, 909 N Taylor St\, Arlington\, VA\, 22203\, United States
END:VEVENT
BEGIN:VEVENT
DTSTART;TZID=America/New_York:20270107T150000
DTEND;TZID=America/New_York:20270107T180000
DTSTAMP:20260420T064213
CREATED:20260202T184605Z
LAST-MODIFIED:20260327T135207Z
UID:10001447-1799334000-1799344800@www.ballstonva.org
SUMMARY:Ballston Farmer's Market
DESCRIPTION:Every Thursday | Welburn Square \nJoin us weekly in Welburn Square for a curated selection vendors. \n\nWinter Hours (Dec – Mar): 3:00 PM – 6:00 PM\nSummer Hours (Apr – Nov): 3:00 PM – 7:00 PM\nLocation: Welburn Square (Across from Ballston Metro)\n\nPlease note: The market operates weekly\, rain or shine. Cancellations only occur in the event of extreme weather or unsafe site conditions. Please follow us on social media to have the latest updates. \n 
URL:https://www.ballstonva.org/event/ballston-farmers-market-2/2027-01-07/
LOCATION:Welburn Square\, 909 N Taylor St\, Arlington\, VA\, 22203\, United States
END:VEVENT
BEGIN:VEVENT
DTSTART;TZID=America/New_York:20270114T150000
DTEND;TZID=America/New_York:20270114T180000
DTSTAMP:20260420T064213
CREATED:20260202T184605Z
LAST-MODIFIED:20260327T135207Z
UID:10001448-1799938800-1799949600@www.ballstonva.org
SUMMARY:Ballston Farmer's Market
DESCRIPTION:Every Thursday | Welburn Square \nJoin us weekly in Welburn Square for a curated selection vendors. \n\nWinter Hours (Dec – Mar): 3:00 PM – 6:00 PM\nSummer Hours (Apr – Nov): 3:00 PM – 7:00 PM\nLocation: Welburn Square (Across from Ballston Metro)\n\nPlease note: The market operates weekly\, rain or shine. Cancellations only occur in the event of extreme weather or unsafe site conditions. Please follow us on social media to have the latest updates. \n 
URL:https://www.ballstonva.org/event/ballston-farmers-market-2/2027-01-14/
LOCATION:Welburn Square\, 909 N Taylor St\, Arlington\, VA\, 22203\, United States
END:VEVENT
BEGIN:VEVENT
DTSTART;TZID=America/New_York:20270121T150000
DTEND;TZID=America/New_York:20270121T180000
DTSTAMP:20260420T064213
CREATED:20260202T184605Z
LAST-MODIFIED:20260327T135207Z
UID:10001449-1800543600-1800554400@www.ballstonva.org
SUMMARY:Ballston Farmer's Market
DESCRIPTION:Every Thursday | Welburn Square \nJoin us weekly in Welburn Square for a curated selection vendors. \n\nWinter Hours (Dec – Mar): 3:00 PM – 6:00 PM\nSummer Hours (Apr – Nov): 3:00 PM – 7:00 PM\nLocation: Welburn Square (Across from Ballston Metro)\n\nPlease note: The market operates weekly\, rain or shine. Cancellations only occur in the event of extreme weather or unsafe site conditions. Please follow us on social media to have the latest updates. \n 
URL:https://www.ballstonva.org/event/ballston-farmers-market-2/2027-01-21/
LOCATION:Welburn Square\, 909 N Taylor St\, Arlington\, VA\, 22203\, United States
END:VEVENT
BEGIN:VEVENT
DTSTART;TZID=America/New_York:20270128T150000
DTEND;TZID=America/New_York:20270128T180000
DTSTAMP:20260420T064213
CREATED:20260202T184605Z
LAST-MODIFIED:20260327T135207Z
UID:10001450-1801148400-1801159200@www.ballstonva.org
SUMMARY:Ballston Farmer's Market
DESCRIPTION:Every Thursday | Welburn Square \nJoin us weekly in Welburn Square for a curated selection vendors. \n\nWinter Hours (Dec – Mar): 3:00 PM – 6:00 PM\nSummer Hours (Apr – Nov): 3:00 PM – 7:00 PM\nLocation: Welburn Square (Across from Ballston Metro)\n\nPlease note: The market operates weekly\, rain or shine. Cancellations only occur in the event of extreme weather or unsafe site conditions. Please follow us on social media to have the latest updates. \n 
URL:https://www.ballstonva.org/event/ballston-farmers-market-2/2027-01-28/
LOCATION:Welburn Square\, 909 N Taylor St\, Arlington\, VA\, 22203\, United States
END:VEVENT
BEGIN:VEVENT
DTSTART;TZID=America/New_York:20270204T150000
DTEND;TZID=America/New_York:20270204T180000
DTSTAMP:20260420T064213
CREATED:20260202T184605Z
LAST-MODIFIED:20260327T135207Z
UID:10001451-1801753200-1801764000@www.ballstonva.org
SUMMARY:Ballston Farmer's Market
DESCRIPTION:Every Thursday | Welburn Square \nJoin us weekly in Welburn Square for a curated selection vendors. \n\nWinter Hours (Dec – Mar): 3:00 PM – 6:00 PM\nSummer Hours (Apr – Nov): 3:00 PM – 7:00 PM\nLocation: Welburn Square (Across from Ballston Metro)\n\nPlease note: The market operates weekly\, rain or shine. Cancellations only occur in the event of extreme weather or unsafe site conditions. Please follow us on social media to have the latest updates. \n 
URL:https://www.ballstonva.org/event/ballston-farmers-market-2/2027-02-04/
LOCATION:Welburn Square\, 909 N Taylor St\, Arlington\, VA\, 22203\, United States
END:VEVENT
BEGIN:VEVENT
DTSTART;TZID=America/New_York:20270211T150000
DTEND;TZID=America/New_York:20270211T180000
DTSTAMP:20260420T064213
CREATED:20260202T184605Z
LAST-MODIFIED:20260327T135207Z
UID:10001452-1802358000-1802368800@www.ballstonva.org
SUMMARY:Ballston Farmer's Market
DESCRIPTION:Every Thursday | Welburn Square \nJoin us weekly in Welburn Square for a curated selection vendors. \n\nWinter Hours (Dec – Mar): 3:00 PM – 6:00 PM\nSummer Hours (Apr – Nov): 3:00 PM – 7:00 PM\nLocation: Welburn Square (Across from Ballston Metro)\n\nPlease note: The market operates weekly\, rain or shine. Cancellations only occur in the event of extreme weather or unsafe site conditions. Please follow us on social media to have the latest updates. \n 
URL:https://www.ballstonva.org/event/ballston-farmers-market-2/2027-02-11/
LOCATION:Welburn Square\, 909 N Taylor St\, Arlington\, VA\, 22203\, United States
END:VEVENT
BEGIN:VEVENT
DTSTART;TZID=America/New_York:20270218T150000
DTEND;TZID=America/New_York:20270218T180000
DTSTAMP:20260420T064213
CREATED:20260202T184605Z
LAST-MODIFIED:20260327T135207Z
UID:10001453-1802962800-1802973600@www.ballstonva.org
SUMMARY:Ballston Farmer's Market
DESCRIPTION:Every Thursday | Welburn Square \nJoin us weekly in Welburn Square for a curated selection vendors. \n\nWinter Hours (Dec – Mar): 3:00 PM – 6:00 PM\nSummer Hours (Apr – Nov): 3:00 PM – 7:00 PM\nLocation: Welburn Square (Across from Ballston Metro)\n\nPlease note: The market operates weekly\, rain or shine. Cancellations only occur in the event of extreme weather or unsafe site conditions. Please follow us on social media to have the latest updates. \n 
URL:https://www.ballstonva.org/event/ballston-farmers-market-2/2027-02-18/
LOCATION:Welburn Square\, 909 N Taylor St\, Arlington\, VA\, 22203\, United States
END:VEVENT
BEGIN:VEVENT
DTSTART;TZID=America/New_York:20270225T150000
DTEND;TZID=America/New_York:20270225T180000
DTSTAMP:20260420T064213
CREATED:20260202T184605Z
LAST-MODIFIED:20260327T135207Z
UID:10001454-1803567600-1803578400@www.ballstonva.org
SUMMARY:Ballston Farmer's Market
DESCRIPTION:Every Thursday | Welburn Square \nJoin us weekly in Welburn Square for a curated selection vendors. \n\nWinter Hours (Dec – Mar): 3:00 PM – 6:00 PM\nSummer Hours (Apr – Nov): 3:00 PM – 7:00 PM\nLocation: Welburn Square (Across from Ballston Metro)\n\nPlease note: The market operates weekly\, rain or shine. Cancellations only occur in the event of extreme weather or unsafe site conditions. Please follow us on social media to have the latest updates. \n 
URL:https://www.ballstonva.org/event/ballston-farmers-market-2/2027-02-25/
LOCATION:Welburn Square\, 909 N Taylor St\, Arlington\, VA\, 22203\, United States
END:VEVENT
BEGIN:VEVENT
DTSTART;TZID=America/New_York:20270304T150000
DTEND;TZID=America/New_York:20270304T180000
DTSTAMP:20260420T064213
CREATED:20260202T184605Z
LAST-MODIFIED:20260327T135207Z
UID:10001455-1804172400-1804183200@www.ballstonva.org
SUMMARY:Ballston Farmer's Market
DESCRIPTION:Every Thursday | Welburn Square \nJoin us weekly in Welburn Square for a curated selection vendors. \n\nWinter Hours (Dec – Mar): 3:00 PM – 6:00 PM\nSummer Hours (Apr – Nov): 3:00 PM – 7:00 PM\nLocation: Welburn Square (Across from Ballston Metro)\n\nPlease note: The market operates weekly\, rain or shine. Cancellations only occur in the event of extreme weather or unsafe site conditions. Please follow us on social media to have the latest updates. \n 
URL:https://www.ballstonva.org/event/ballston-farmers-market-2/2027-03-04/
LOCATION:Welburn Square\, 909 N Taylor St\, Arlington\, VA\, 22203\, United States
END:VEVENT
BEGIN:VEVENT
DTSTART;TZID=America/New_York:20270311T150000
DTEND;TZID=America/New_York:20270311T180000
DTSTAMP:20260420T064213
CREATED:20260202T184605Z
LAST-MODIFIED:20260327T135207Z
UID:10001456-1804777200-1804788000@www.ballstonva.org
SUMMARY:Ballston Farmer's Market
DESCRIPTION:Every Thursday | Welburn Square \nJoin us weekly in Welburn Square for a curated selection vendors. \n\nWinter Hours (Dec – Mar): 3:00 PM – 6:00 PM\nSummer Hours (Apr – Nov): 3:00 PM – 7:00 PM\nLocation: Welburn Square (Across from Ballston Metro)\n\nPlease note: The market operates weekly\, rain or shine. Cancellations only occur in the event of extreme weather or unsafe site conditions. Please follow us on social media to have the latest updates. \n 
URL:https://www.ballstonva.org/event/ballston-farmers-market-2/2027-03-11/
LOCATION:Welburn Square\, 909 N Taylor St\, Arlington\, VA\, 22203\, United States
END:VEVENT
END:VCALENDAR