BEGIN:VCALENDAR
VERSION:2.0
PRODID:-//www.ballstonva.org - ECPv6.15.20//NONSGML v1.0//EN
CALSCALE:GREGORIAN
METHOD:PUBLISH
X-WR-CALNAME:www.ballstonva.org
X-ORIGINAL-URL:https://www.ballstonva.org
X-WR-CALDESC:Events for www.ballstonva.org
REFRESH-INTERVAL;VALUE=DURATION:PT1H
X-Robots-Tag:noindex
X-PUBLISHED-TTL:PT1H
BEGIN:VTIMEZONE
TZID:America/New_York
BEGIN:DAYLIGHT
TZOFFSETFROM:-0500
TZOFFSETTO:-0400
TZNAME:EDT
DTSTART:20250309T070000
END:DAYLIGHT
BEGIN:STANDARD
TZOFFSETFROM:-0400
TZOFFSETTO:-0500
TZNAME:EST
DTSTART:20251102T060000
END:STANDARD
BEGIN:DAYLIGHT
TZOFFSETFROM:-0500
TZOFFSETTO:-0400
TZNAME:EDT
DTSTART:20260308T070000
END:DAYLIGHT
BEGIN:STANDARD
TZOFFSETFROM:-0400
TZOFFSETTO:-0500
TZNAME:EST
DTSTART:20261101T060000
END:STANDARD
BEGIN:DAYLIGHT
TZOFFSETFROM:-0500
TZOFFSETTO:-0400
TZNAME:EDT
DTSTART:20270314T070000
END:DAYLIGHT
BEGIN:STANDARD
TZOFFSETFROM:-0400
TZOFFSETTO:-0500
TZNAME:EST
DTSTART:20271107T060000
END:STANDARD
END:VTIMEZONE
BEGIN:VEVENT
DTSTART;TZID=America/New_York:20260318T170000
DTEND;TZID=America/New_York:20260318T183000
DTSTAMP:20260420T083909
CREATED:20251212T145126Z
LAST-MODIFIED:20260306T143328Z
UID:10001395-1773853200-1773858600@www.ballstonva.org
SUMMARY:Learning Lab Series - Beyond the Gallery: How to Start Collecting and Designing Your Own Art Wall
DESCRIPTION:Wednesday\, March 18\, 2026\nTime – 5:00PM-6:30PM\nLocation = Fred Schnider Gallery (888 N Quincy St #102\, Arlington\, VA 22203) \nJoin Ballston BID for an interactive session facilitated by David Carlson\, Curator\, and Bobby Mahoney\, Director\, Fred Schnider Gallery. Think art collecting is only for seasoned collectors? Think again! David and Bobby will guide you through how to start your own collection and create an art wall that’s as unique as you are. \nLearn how to mix styles and mediums—from modern and contemporary pieces to sculpture and photography—and arrange them in a way that truly reflects your personality. No rules\, just creativity\, practical tips\, and inspiration to help you build a space you’ll love every day. Get ready to start collecting\, start curating\, and most importantly\, start making your walls a reflection of you. \nLight refreshments and beverages (alcoholic and non-alcoholic) will be provided by Ballston BID. This program supports Ballston BID’s commitment to cultivating an engaging\, dynamic neighborhood experience and welcomes everyone who is part of the Ballston community. \nREGISTER HERE
URL:https://www.ballstonva.org/event/learning-lab-art-collecting-gallery-wall-design/
LOCATION:Fred Schnider Gallery (888 N Quincy St #102\, Arlington\, VA 22203\, 888 N Quincy St #102\, Arlington\, 22203\, United States
END:VEVENT
END:VCALENDAR