BEGIN:VCALENDAR
VERSION:2.0
PRODID:-//www.ballstonva.org - ECPv6.15.20//NONSGML v1.0//EN
CALSCALE:GREGORIAN
METHOD:PUBLISH
X-ORIGINAL-URL:https://www.ballstonva.org
X-WR-CALDESC:Events for www.ballstonva.org
REFRESH-INTERVAL;VALUE=DURATION:PT1H
X-Robots-Tag:noindex
X-PUBLISHED-TTL:PT1H
BEGIN:VTIMEZONE
TZID:America/New_York
BEGIN:DAYLIGHT
TZOFFSETFROM:-0500
TZOFFSETTO:-0400
TZNAME:EDT
DTSTART:20250309T070000
END:DAYLIGHT
BEGIN:STANDARD
TZOFFSETFROM:-0400
TZOFFSETTO:-0500
TZNAME:EST
DTSTART:20251102T060000
END:STANDARD
BEGIN:DAYLIGHT
TZOFFSETFROM:-0500
TZOFFSETTO:-0400
TZNAME:EDT
DTSTART:20260308T070000
END:DAYLIGHT
BEGIN:STANDARD
TZOFFSETFROM:-0400
TZOFFSETTO:-0500
TZNAME:EST
DTSTART:20261101T060000
END:STANDARD
BEGIN:DAYLIGHT
TZOFFSETFROM:-0500
TZOFFSETTO:-0400
TZNAME:EDT
DTSTART:20270314T070000
END:DAYLIGHT
BEGIN:STANDARD
TZOFFSETFROM:-0400
TZOFFSETTO:-0500
TZNAME:EST
DTSTART:20271107T060000
END:STANDARD
END:VTIMEZONE
BEGIN:VEVENT
DTSTART;TZID=America/New_York:20260429T170000
DTEND;TZID=America/New_York:20260429T180000
DTSTAMP:20260420T053215
CREATED:20251112T165134Z
LAST-MODIFIED:20260305T142947Z
UID:10001385-1777482000-1777485600@www.ballstonva.org
SUMMARY:Wind Down Wednesday – Outdoor Fitness Series
DESCRIPTION:Ballston’s favorite outdoor fitness series\, Wind Down Wednesdays\, continues with VIDA Fitness at 4040 Wilson Boulevard! Join us from 5:00 PM to 6:00 PM for a high-energy midweek reset designed to help you move\, energize\, and recharge right here in Ballston. \n\n\n\n\n\n\n\nThis week’s class is 305 Fitness\, a non-stop cardio party featuring curated DJ mixes\, easy-to-follow dance moves\, and all the bold encouragement you’d expect at a club. Not a dancer? Not a problem! Class is structured with a cardio dance segment\, a strength and sculpting segment\, and a final dance cardio segment with transparent cueing\, so the party never stops. \n\n\n\n\n\n\n\nRegister Here: \nCLICK HERE
URL:https://www.ballstonva.org/event/wind-down-wednesday-outdoor-fitness-series-4/
LOCATION:4040 Wilson Boulevard\, 4040 Wilson Boulevard\, Arlington\, 22203\, United States
ATTACH;FMTTYPE=image/jpeg:https://www.ballstonva.org/wp-content/uploads/2025/11/gOZ2SalM-scaled.jpeg
END:VEVENT
BEGIN:VEVENT
DTSTART;TZID=America/New_York:20260610T170000
DTEND;TZID=America/New_York:20260610T180000
DTSTAMP:20260420T053215
CREATED:20260312T140444Z
LAST-MODIFIED:20260313T132923Z
UID:10001666-1781110800-1781114400@www.ballstonva.org
SUMMARY:Wind Down Wednesday – Outdoor Fitness Series
DESCRIPTION:Wind Down Wednesday – Outdoor Fitness Series \nJoin OneLife Fitness Ballston for an energizing outdoor workout you won’t want to miss! This high-energy session is designed for all fitness levels — whether you’re just starting your fitness journey or looking to switch up your routine\, our expert instructors will guide you every step of the way. Come ready to move\, sweat\, and have fun in the heart of Ballston Quarter! \nFunctional Lab\nFitness Level: All levels\nA Onelife Fitness Signature Series program. Our strength and conditioning class that allows you to exercise at your desired intensity level to build confidence and competence. This timed interval workout provides functional movement patterns that get you fit.\nREGISTER HERE
URL:https://www.ballstonva.org/event/wind-down-wednesday-outdoor-fitness-series-11/
LOCATION:4238 Wilson Blvd Ballston Quarter\, 4238 Wilson Blvd\, Arlington\,\, Arlington\, United States
END:VEVENT
BEGIN:VEVENT
DTSTART;TZID=America/New_York:20260617T170000
DTEND;TZID=America/New_York:20260617T180000
DTSTAMP:20260420T053215
CREATED:20260312T140905Z
LAST-MODIFIED:20260313T133220Z
UID:10001667-1781715600-1781719200@www.ballstonva.org
SUMMARY:Wind Down Wednesday – Outdoor Fitness Series
DESCRIPTION:Wind Down Wednesday – Outdoor Fitness Series \nJoin OneLife Fitness Ballston for an energizing outdoor workout you won’t want to miss! This high-energy session is designed for all fitness levels — whether you’re just starting your fitness journey or looking to switch up your routine\, our expert instructors will guide you every step of the way. Come ready to move\, sweat\, and have fun in the heart of Ballston Quarter! \nMobility\nFitness Level: All levels\nA Onelife Fitness Signature Series program. A 30-minute mobility class where we use dynamic movement patterns to test\, improve mobility\, increase flexibility\, and test again to see immediate results. Mobility is true functionality and this class provides a fully body experience while leaving you feeling refreshed. *Mat Suggested*\nREGISTER HERE
URL:https://www.ballstonva.org/event/wind-down-wednesday-outdoor-fitness-series-12/
LOCATION:4238 Wilson Blvd Ballston Quarter\, 4238 Wilson Blvd\, Arlington\,\, Arlington\, United States
END:VEVENT
BEGIN:VEVENT
DTSTART;TZID=America/New_York:20260624T170000
DTEND;TZID=America/New_York:20260624T180000
DTSTAMP:20260420T053215
CREATED:20260312T142203Z
LAST-MODIFIED:20260312T142430Z
UID:10001668-1782320400-1782324000@www.ballstonva.org
SUMMARY:Wind Down Wednesday – Outdoor Fitness Series
DESCRIPTION:Wind Down Wednesday – Outdoor Fitness Series \nBASH Boxing – Outdoor Class Wind Down Wednesday | June 24| 5:00–6:00 PM | Ballston Quarter (outside the Quarter Market) \nA high-energy\, music-driven boxing-inspired workout combining shadowboxing\, athletic conditioning\, and bodyweight strength training. This class is designed for all fitness levels — no gloves or experience needed. Expect upbeat coaching\, powerful combos\, and a fun\, sweat-filled session that leaves you feeling strong and energized. \nREGISTER HERE
URL:https://www.ballstonva.org/event/wind-down-wednesday-outdoor-fitness-series-13/
LOCATION:4238 Wilson Blvd Ballston Quarter\, 4238 Wilson Blvd\, Arlington\,\, Arlington\, United States
END:VEVENT
END:VCALENDAR