BEGIN:VCALENDAR
VERSION:2.0
PRODID:-//www.ballstonva.org - ECPv6.15.20//NONSGML v1.0//EN
CALSCALE:GREGORIAN
METHOD:PUBLISH
X-ORIGINAL-URL:https://www.ballstonva.org
X-WR-CALDESC:Events for www.ballstonva.org
REFRESH-INTERVAL;VALUE=DURATION:PT1H
X-Robots-Tag:noindex
X-PUBLISHED-TTL:PT1H
BEGIN:VTIMEZONE
TZID:America/New_York
BEGIN:DAYLIGHT
TZOFFSETFROM:-0500
TZOFFSETTO:-0400
TZNAME:EDT
DTSTART:20250309T070000
END:DAYLIGHT
BEGIN:STANDARD
TZOFFSETFROM:-0400
TZOFFSETTO:-0500
TZNAME:EST
DTSTART:20251102T060000
END:STANDARD
BEGIN:DAYLIGHT
TZOFFSETFROM:-0500
TZOFFSETTO:-0400
TZNAME:EDT
DTSTART:20260308T070000
END:DAYLIGHT
BEGIN:STANDARD
TZOFFSETFROM:-0400
TZOFFSETTO:-0500
TZNAME:EST
DTSTART:20261101T060000
END:STANDARD
BEGIN:DAYLIGHT
TZOFFSETFROM:-0500
TZOFFSETTO:-0400
TZNAME:EDT
DTSTART:20270314T070000
END:DAYLIGHT
BEGIN:STANDARD
TZOFFSETFROM:-0400
TZOFFSETTO:-0500
TZNAME:EST
DTSTART:20271107T060000
END:STANDARD
END:VTIMEZONE
BEGIN:VEVENT
DTSTART;TZID=America/New_York:20260624T170000
DTEND;TZID=America/New_York:20260624T180000
DTSTAMP:20260420T081730
CREATED:20260312T142203Z
LAST-MODIFIED:20260312T142430Z
UID:10001668-1782320400-1782324000@www.ballstonva.org
SUMMARY:Wind Down Wednesday – Outdoor Fitness Series
DESCRIPTION:Wind Down Wednesday – Outdoor Fitness Series \nBASH Boxing – Outdoor Class Wind Down Wednesday | June 24| 5:00–6:00 PM | Ballston Quarter (outside the Quarter Market) \nA high-energy\, music-driven boxing-inspired workout combining shadowboxing\, athletic conditioning\, and bodyweight strength training. This class is designed for all fitness levels — no gloves or experience needed. Expect upbeat coaching\, powerful combos\, and a fun\, sweat-filled session that leaves you feeling strong and energized. \nREGISTER HERE
URL:https://www.ballstonva.org/event/wind-down-wednesday-outdoor-fitness-series-13/
LOCATION:4238 Wilson Blvd Ballston Quarter\, 4238 Wilson Blvd\, Arlington\,\, Arlington\, United States
END:VEVENT
END:VCALENDAR