BEGIN:VCALENDAR
VERSION:2.0
PRODID:-//www.ballstonva.org - ECPv6.15.20//NONSGML v1.0//EN
CALSCALE:GREGORIAN
METHOD:PUBLISH
X-ORIGINAL-URL:https://www.ballstonva.org
X-WR-CALDESC:Events for www.ballstonva.org
REFRESH-INTERVAL;VALUE=DURATION:PT1H
X-Robots-Tag:noindex
X-PUBLISHED-TTL:PT1H
BEGIN:VTIMEZONE
TZID:America/New_York
BEGIN:DAYLIGHT
TZOFFSETFROM:-0500
TZOFFSETTO:-0400
TZNAME:EDT
DTSTART:20250309T070000
END:DAYLIGHT
BEGIN:STANDARD
TZOFFSETFROM:-0400
TZOFFSETTO:-0500
TZNAME:EST
DTSTART:20251102T060000
END:STANDARD
BEGIN:DAYLIGHT
TZOFFSETFROM:-0500
TZOFFSETTO:-0400
TZNAME:EDT
DTSTART:20260308T070000
END:DAYLIGHT
BEGIN:STANDARD
TZOFFSETFROM:-0400
TZOFFSETTO:-0500
TZNAME:EST
DTSTART:20261101T060000
END:STANDARD
BEGIN:DAYLIGHT
TZOFFSETFROM:-0500
TZOFFSETTO:-0400
TZNAME:EDT
DTSTART:20270314T070000
END:DAYLIGHT
BEGIN:STANDARD
TZOFFSETFROM:-0400
TZOFFSETTO:-0500
TZNAME:EST
DTSTART:20271107T060000
END:STANDARD
END:VTIMEZONE
BEGIN:VEVENT
DTSTART;TZID=America/New_York:20260603T170000
DTEND;TZID=America/New_York:20260603T180000
DTSTAMP:20260420T065151
CREATED:20251114T160119Z
LAST-MODIFIED:20260206T142545Z
UID:10001391-1780506000-1780509600@www.ballstonva.org
SUMMARY:Wind Down Wednesday – Outdoor Fitness Series
DESCRIPTION:Wind Down Wednesday – Outdoor Fitness Series \nJoin us for a rooftop yoga class led by SPENGA Ballston. A refreshing midweek reset. Flow through energizing stretches\, find your calm\, and soak in the open-air views. Bring your yoga mat and water bottle to stay comfortable and hydrated. All levels are welcome\, come move\, breathe\, and unwind with us. \nRegister Here: \nCLICK HERE
URL:https://www.ballstonva.org/event/wind-down-wednesday-outdoor-fitness-series-9/
LOCATION:Rooftop 4040 Fairfax Drive\, 4040 Fairfax Drive\, Arlington\, VA\, 22203\, United States
ATTACH;FMTTYPE=image/jpeg:https://www.ballstonva.org/wp-content/uploads/2025/11/mqK47-j8-scaled.jpeg
END:VEVENT
END:VCALENDAR